BEGIN:VCALENDAR
VERSION:2.0
PRODID:-//The ArQuives - ECPv5.9.1//NONSGML v1.0//EN
CALSCALE:GREGORIAN
METHOD:PUBLISH
X-WR-CALNAME:The ArQuives
X-ORIGINAL-URL:https://arquives.ca
X-WR-CALDESC:Events for The ArQuives
BEGIN:VTIMEZONE
TZID:America/Toronto
BEGIN:DAYLIGHT
TZOFFSETFROM:-0500
TZOFFSETTO:-0400
TZNAME:EDT
DTSTART:20150308T070000
END:DAYLIGHT
BEGIN:STANDARD
TZOFFSETFROM:-0400
TZOFFSETTO:-0500
TZNAME:EST
DTSTART:20151101T060000
END:STANDARD
END:VTIMEZONE
BEGIN:VEVENT
DTSTART;VALUE=DATE:20151015
DTEND;VALUE=DATE:20151214
DTSTAMP:20211021T174021
CREATED:20151001T040000Z
LAST-MODIFIED:20200805T200218Z
UID:6950-1444867200-1450051199@arquives.ca
SUMMARY:Dissident Family
DESCRIPTION:DURATION\nThursday\, October 15\, 2015 to Sunday\, December 13\, 2015 \nOPENING RECEPTION\nThursday\, October 15\, 7:00pm \nDESCRIPTION\n“Dissident Family” brings together artworks that speak to the biological family that the artist grew up in\, and to the family she has created and nurtured. It speaks to the central place of dissidence in her spiritual\, political and familial life. \nGottlieb grew up in the middle of dissent. Her parents’ apartment served as a gathering spot for their Communist comrades and was alive with heated debates and energetic resistance. This exhibit explores the images and tales that Gottlieb has created about her parents in a world that seems ready to bury their histories and deeds. \nSince the mid 1980s Gottlieb’s family has been intentional\, queer\, non-biological\, feminist and activist. The newer works in this exhibit speak to her contemporary journeys: her queer families\, the thrill of adoption\, the challenge of parenting\, and recognition of the butch lesbian. \nThis exhibit speaks to different kinds of dissidence:  political views that butt up against the status quo and challenge power and privilege\, identities that overthrow gender and sexual norms\, and families that are based on solidarity more than on blood. ‘Dissident Family’ embraces these delicious moments of dissidence. \nBIOGRAPHIES\nAmy Gottlieb is a Toronto-based artist and educator. Born and raised in New York City\, she moved to Canada in 1972. Her work explores family histories\, the intersection of personal and historical memory\, and the relationship between cognitive and body memories. Gottlieb identifies as a butch lesbian and is a social justice activist who teaches photography and art in a Toronto high school. More info and artwork can be found on her website: www.amygottlieb.ca
URL:https://arquives.ca/program/dissident-family
LOCATION:The ArQuives\, 34 Isabella Street\, 2nd Floor\, Toronto\, Ontario\, M4Y 1N1\, Canada
CATEGORIES:Past Exhibits
ATTACH;FMTTYPE=image/jpeg:https://arquives.ca/wp-content/uploads/2020/07/exhibition_dissidient_family2.jpg
GEO:43.6681783;-79.3839737
X-APPLE-STRUCTURED-LOCATION;VALUE=URI;X-ADDRESS=The ArQuives 34 Isabella Street 2nd Floor Toronto Ontario M4Y 1N1 Canada;X-APPLE-RADIUS=500;X-TITLE=34 Isabella Street\, 2nd Floor:geo:-79.3839737,43.6681783
END:VEVENT
END:VCALENDAR