BEGIN:VCALENDAR
VERSION:2.0
PRODID:-//The ArQuives - ECPv5.9.1//NONSGML v1.0//EN
CALSCALE:GREGORIAN
METHOD:PUBLISH
X-WR-CALNAME:The ArQuives
X-ORIGINAL-URL:https://arquives.ca
X-WR-CALDESC:Events for The ArQuives
BEGIN:VTIMEZONE
TZID:America/Toronto
BEGIN:DAYLIGHT
TZOFFSETFROM:-0500
TZOFFSETTO:-0400
TZNAME:EDT
DTSTART:20210314T070000
END:DAYLIGHT
BEGIN:STANDARD
TZOFFSETFROM:-0400
TZOFFSETTO:-0500
TZNAME:EST
DTSTART:20211107T060000
END:STANDARD
END:VTIMEZONE
BEGIN:VEVENT
DTSTART;TZID=America/Toronto:20210211T200000
DTEND;TZID=America/Toronto:20210211T210000
DTSTAMP:20211013T165448
CREATED:20210121T145702Z
LAST-MODIFIED:20210128T221127Z
UID:8705-1613073600-1613077200@arquives.ca
SUMMARY:Online Queer Trivia Night: Will you be my (queer) valentine?
DESCRIPTION:Join us on  February 11\, 2021\, for Queer Trivia Night as we celebrate Valentine’s Day. \nWill you be my (queer) valentine? LGBTQ2S+ romance through the ages \n  \nSignup to get the Zoom link by clicking Purchase Tickets.
URL:https://arquives.ca/program/february-queer-trivia-night
LOCATION:Online\, Canada
CATEGORIES:Events,Featured
ATTACH;FMTTYPE=image/png:https://arquives.ca/wp-content/uploads/2021/01/Screen-Shot-2021-01-25-at-11.41.55-AM.png
END:VEVENT
END:VCALENDAR