BEGIN:VCALENDAR
VERSION:2.0
PRODID:-//The ArQuives - ECPv5.9.1//NONSGML v1.0//EN
CALSCALE:GREGORIAN
METHOD:PUBLISH
X-WR-CALNAME:The ArQuives
X-ORIGINAL-URL:https://arquives.ca
X-WR-CALDESC:Events for The ArQuives
BEGIN:VTIMEZONE
TZID:America/Toronto
BEGIN:DAYLIGHT
TZOFFSETFROM:-0500
TZOFFSETTO:-0400
TZNAME:EDT
DTSTART:20210314T070000
END:DAYLIGHT
BEGIN:STANDARD
TZOFFSETFROM:-0400
TZOFFSETTO:-0500
TZNAME:EST
DTSTART:20211107T060000
END:STANDARD
END:VTIMEZONE
BEGIN:VEVENT
DTSTART;TZID=America/Toronto:20210715T200000
DTEND;TZID=America/Toronto:20210715T210000
DTSTAMP:20211010T085019
CREATED:20210323T145003Z
LAST-MODIFIED:20210323T145003Z
UID:8892-1626379200-1626382800@arquives.ca
SUMMARY:Online Queer Trivia Night: Queer Establishments
DESCRIPTION:Join us on July 15\, 2021\, @ 8 pm EST for Queer Trivia Night. \nThe ArQuives is thrilled to present the latest trivia night in our monthly queer trivia series! This month\, the theme is Queer Establishments. \n\nMany have closed\, many are still open –  can you identify the bar from the matchbook? Where did that establishment get its name? Can you name the first Canadian queer bar?\n\nThis FREE event will be hosted over Zoom and requires pre-registration. Signup to get the Zoom link by clicking Purchase Tickets. \n  \n 
URL:https://arquives.ca/program/online-queer-trivia-queer-establishments
LOCATION:Online\, Canada
CATEGORIES:Events,Featured
ATTACH;FMTTYPE=image/png:https://arquives.ca/wp-content/uploads/2021/03/Screen-Shot-2021-03-23-at-10.20.12-AM.png
END:VEVENT
END:VCALENDAR