BEGIN:VCALENDAR
VERSION:2.0
PRODID:-//The ArQuives - ECPv6.15.20//NONSGML v1.0//EN
CALSCALE:GREGORIAN
METHOD:PUBLISH
X-WR-CALNAME:The ArQuives
X-ORIGINAL-URL:https://arquives.ca
X-WR-CALDESC:Events for The ArQuives
REFRESH-INTERVAL;VALUE=DURATION:PT1H
X-Robots-Tag:noindex
X-PUBLISHED-TTL:PT1H
BEGIN:VTIMEZONE
TZID:America/Toronto
BEGIN:DAYLIGHT
TZOFFSETFROM:-0500
TZOFFSETTO:-0400
TZNAME:EDT
DTSTART:20250309T070000
END:DAYLIGHT
BEGIN:STANDARD
TZOFFSETFROM:-0400
TZOFFSETTO:-0500
TZNAME:EST
DTSTART:20251102T060000
END:STANDARD
BEGIN:DAYLIGHT
TZOFFSETFROM:-0500
TZOFFSETTO:-0400
TZNAME:EDT
DTSTART:20260308T070000
END:DAYLIGHT
BEGIN:STANDARD
TZOFFSETFROM:-0400
TZOFFSETTO:-0500
TZNAME:EST
DTSTART:20261101T060000
END:STANDARD
BEGIN:DAYLIGHT
TZOFFSETFROM:-0500
TZOFFSETTO:-0400
TZNAME:EDT
DTSTART:20270314T070000
END:DAYLIGHT
BEGIN:STANDARD
TZOFFSETFROM:-0400
TZOFFSETTO:-0500
TZNAME:EST
DTSTART:20271107T060000
END:STANDARD
END:VTIMEZONE
BEGIN:VEVENT
DTSTART;VALUE=DATE:20260409
DTEND;VALUE=DATE:20260504
DTSTAMP:20260424T163754
CREATED:20260319T103036Z
LAST-MODIFIED:20260317T183010Z
UID:10000396-1775692800-1777852799@arquives.ca
SUMMARY:We Were Never Lost
DESCRIPTION:Developed as part of the 2025-2026 Master of Museum Studies Capstone Projects course at the University of Toronto’s Faculty of Information\, We Were Never Lost highlights the use of creative practices by queer Black women and women of color as tools for survival and community building in Canada. This exhibition showcases the contributions and legacies of Sister Vision Press\, Fireweed Collective\, and Multicultural Women in Concert/CAMP SIS\, tracking how these movements built on each other and created platforms for those who had been silenced due to racism\, sexism and homophobia. \nFrom the mid 1980s to the early 2000s\, each of these groups created space for the radical self-expressions of queer and racialized women\, including dance\, visual arts\, dub poetry\, oral histories\, incisive political essays\, and more. These artists spoke out on critical issues facing their communities\, like labour\, migration\, and racism. \nThis exhibition will showcase selected publications\, photographs\, ephemera\, and quotes from participants in these movements\, as well as examples of how this deeply political work continues today. \nPlease join us for an opening reception on April 9th from 6-8pm \nOpen times and dates:\nFridays 4pm – 8pm\, Saturdays 11am – 3pm\, Sundays 11am – 3pm.\nOr by appointment – email curatorial@arquives.ca \nThank you to Dr. Afua Cooper\, Anjula Gogia\, Courtnay McFarlane\, Faith Nolan\, Felicity Tayler\, Gabrielle Mandel\, Dr. Meghan Tibbits-Lamirande\, Whitney French\, Dr. Ronald Cummings\, and Dr. Syrus Marcus Ware for your incredible generosity with your time\, knowledge\, and memories. \nThe team wishes to thank Dr. Maggie Hutcheson\, our project mentor\, and Raegan Swanson\, as well as Daniel Payne\, Hannah Dickson\, Jade Nelson\, Patrick Taylor\, Stefanie Martin\, and Syriah Bailey. \nCurated by Abla Touglo Midodji\, Emily Coneybeare\, Cameron Findlay\, and Zhikall Kakei\, as part of the Master of Museum Studies program at the University of Toronto’s Faculty of Information\, in collaboration with The ArQuives Curatorial Committee.
URL:https://arquives.ca/event/we-were-never-lost/
LOCATION:The ArQuives\, 34 Isabella Street\, Toronto\, Ontario\, M4Y 1N1\, Canada
CATEGORIES:Current Exhibits
ATTACH;FMTTYPE=image/png:https://arquives.ca/wp-content/uploads/2026/03/We-Were-Never-Lost.png
GEO:43.6681783;-79.3839737
X-APPLE-STRUCTURED-LOCATION;VALUE=URI;X-ADDRESS=The ArQuives 34 Isabella Street Toronto Ontario M4Y 1N1 Canada;X-APPLE-RADIUS=500;X-TITLE=34 Isabella Street:geo:-79.3839737,43.6681783
END:VEVENT
END:VCALENDAR